Workbook

Sheet 1. Observations
A1: date_time | B1: site_id | C1: site_latitude | D1: site_longitude | E1: notes | F1: =IF(ISBLANK('2. Metadata'!B13)=TRUE," ",'2. Metadata'!B13) -> water_temperature | G1: =IF(ISBLANK('2. Metadata'!B13)=TRUE," ",'2. Metadata'!B13&"_units") -> water_temperature_units | H1: =IF(ISBLANK('2. Metadata'!B25)=TRUE," ",'2. Metadata'!B25) -> pH | I1: =IF(ISBLANK('2. Metadata'!B25)=TRUE," ",'2. Metadata'!B25&"_units") -> pH_units | J1: =IF(ISBLANK('2. Metadata'!B37)=TRUE," ",'2. Metadata'!B37) -> water_clarity_secchi | K1: =IF(ISBLANK('2. Metadata'!B37)=TRUE," ",'2. Metadata'!B37&"_units") -> water_clarity_secchi_units | L1: water_hub_qa_qc
A2: 43636 | B2: Tilley Park Boat Launch | C2: =IF(ISBLANK(B2)=TRUE," ",IF(B2='2. Metadata'!B$1,'2. Metadata'!B$5,IF(B2='2. Metadata'!C$1,'2. Metadata'!C$5,IF(B2='2. Metadata'!D$1,'2. Metadata'!D$5,IF(B2='2. Metadata'!E$1,'2. Metadata'!E$5,IF(B2='2. Metadata'!F$1,'2. Metadata'!F$5,IF(B2='2. Metadata'!G$1,'2. Metadata'!G$5,IF(B2='2. Metadata'!H$1,'2. Metadata'!H$5)))))))) -> 50.17812 | D2: =IF(ISBLANK(B2)=TRUE," ",IF(B2='2. Metadata'!B$1,'2. Metadata'!B$6,IF(B2='2. Metadata'!C$1,'2. Metadata'!C$6,IF(B2='2. Metadata'!D$1,'2. Metadata'!D$6,IF(B2='2. Metadata'!E$1,'2. Metadata'!E$6,IF(B2='2. Metadata'!F$1,'2. Metadata'!F$6,IF(B2='2. Metadata'!G$1,'2. Metadata'!G$6,IF(B2='2. Metadata'!H$1,'2. Metadata'!H$6)))))))) -> -115.82018 | E2: n/a | F2: 17.1 | G2: =IF(ISBLANK(F2)=TRUE," ",'2. Metadata'!B$14) -> degrees Celsius | H2: 8.6 | I2: =IF(ISBLANK(H2)=TRUE," ",'2. Metadata'!B$26) -> pH units | J2: 2 | K2: =IF(ISBLANK(J2)=TRUE," ",'2. Metadata'!B$38) -> metres | L2: n/a
A3: 43636 | B3: Columbia 2 | C3: =IF(ISBLANK(B3)=TRUE," ",IF(B3='2. Metadata'!B$1,'2. Metadata'!B$5,IF(B3='2. Metadata'!C$1,'2. Metadata'!C$5,IF(B3='2. Metadata'!D$1,'2. Metadata'!D$5,IF(B3='2. Metadata'!E$1,'2. Metadata'!E$5,IF(B3='2. Metadata'!F$1,'2. Metadata'!F$5,IF(B3='2. Metadata'!G$1,'2. Metadata'!G$5,IF(B3='2. Metadata'!H$1,'2. Metadata'!H$5)))))))) -> 50.257061 | D3: =IF(ISBLANK(B3)=TRUE," ",IF(B3='2. Metadata'!B$1,'2. Metadata'!B$6,IF(B3='2. Metadata'!C$1,'2. Metadata'!C$6,IF(B3='2. Metadata'!D$1,'2. Metadata'!D$6,IF(B3='2. Metadata'!E$1,'2. Metadata'!E$6,IF(B3='2. Metadata'!F$1,'2. Metadata'!F$6,IF(B3='2. Metadata'!G$1,'2. Metadata'!G$6,IF(B3='2. Metadata'!H$1,'2. Metadata'!H$6)))))))) -> -115.85307 | E3: n/a | F3: 17.7 | G3: =IF(ISBLANK(F3)=TRUE," ",'2. Metadata'!B$14) -> degrees Celsius | H3: 8.6 | I3: =IF(ISBLANK(H3)=TRUE," ",'2. Metadata'!B$26) -> pH units | J3: 3 | K3: =IF(ISBLANK(J3)=TRUE," ",'2. Metadata'!B$38) -> metres | L3: n/a
A4: 43636 | B4: Columbia 3 | C4: =IF(ISBLANK(B4)=TRUE," ",IF(B4='2. Metadata'!B$1,'2. Metadata'!B$5,IF(B4='2. Metadata'!C$1,'2. Metadata'!C$5,IF(B4='2. Metadata'!D$1,'2. Metadata'!D$5,IF(B4='2. Metadata'!E$1,'2. Metadata'!E$5,IF(B4='2. Metadata'!F$1,'2. Metadata'!F$5,IF(B4='2. Metadata'!G$1,'2. Metadata'!G$5,IF(B4='2. Metadata'!H$1,'2. Metadata'!H$5)))))))) -> 50.2449 | D4: =IF(ISBLANK(B4)=TRUE," ",IF(B4='2. Metadata'!B$1,'2. Metadata'!B$6,IF(B4='2. Metadata'!C$1,'2. Metadata'!C$6,IF(B4='2. Metadata'!D$1,'2. Metadata'!D$6,IF(B4='2. Metadata'!E$1,'2. Metadata'!E$6,IF(B4='2. Metadata'!F$1,'2. Metadata'!F$6,IF(B4='2. Metadata'!G$1,'2. Metadata'!G$6,IF(B4='2. Metadata'!H$1,'2. Metadata'!H$6)))))))) -> -115.86624 | E4: n/a | F4: 18.4 | G4: =IF(ISBLANK(F4)=TRUE," ",'2. Metadata'!B$14) -> degrees Celsius | H4: 8.6 | I4: =IF(ISBLANK(H4)=TRUE," ",'2. Metadata'!B$26) -> pH units | J4: 4 | K4: =IF(ISBLANK(J4)=TRUE," ",'2. Metadata'!B$38) -> metres | L4: n/a
A5: 43672.403 | B5: Pine Bay | C5: =IF(ISBLANK(B5)=TRUE," ",IF(B5='2. Metadata'!B$1,'2. Metadata'!B$5,IF(B5='2. Metadata'!C$1,'2. Metadata'!C$5,IF(B5='2. Metadata'!D$1,'2. Metadata'!D$5,IF(B5='2. Metadata'!E$1,'2. Metadata'!E$5,IF(B5='2. Metadata'!F$1,'2. Metadata'!F$5,IF(B5='2. Metadata'!G$1,'2. Metadata'!G$5,IF(B5='2. Metadata'!H$1,'2. Metadata'!H$5)))))))) -> n/a | D5: =IF(ISBLANK(B5)=TRUE," ",IF(B5='2. Metadata'!B$1,'2. Metadata'!B$6,IF(B5='2. Metadata'!C$1,'2. Metadata'!C$6,IF(B5='2. Metadata'!D$1,'2. Metadata'!D$6,IF(B5='2. Metadata'!E$1,'2. Metadata'!E$6,IF(B5='2. Metadata'!F$1,'2. Metadata'!F$6,IF(B5='2. Metadata'!G$1,'2. Metadata'!G$6,IF(B5='2. Metadata'!H$1,'2. Metadata'!H$6)))))))) -> n/a | E5: n/a | F5: 19.6 | G5: =IF(ISBLANK(F5)=TRUE," ",'2. Metadata'!B$14) -> degrees Celsius | H5: 8.66 | I5: =IF(ISBLANK(H5)=TRUE," ",'2. Metadata'!B$26) -> pH units | J5: 0 | K5: =IF(ISBLANK(J5)=TRUE," ",'2. Metadata'!B$38) -> metres | L5: Longitude is not given, only latitude.
A6: 43672.386 | B6: Mid East | C6: =IF(ISBLANK(B6)=TRUE," ",IF(B6='2. Metadata'!B$1,'2. Metadata'!B$5,IF(B6='2. Metadata'!C$1,'2. Metadata'!C$5,IF(B6='2. Metadata'!D$1,'2. Metadata'!D$5,IF(B6='2. Metadata'!E$1,'2. Metadata'!E$5,IF(B6='2. Metadata'!F$1,'2. Metadata'!F$5,IF(B6='2. Metadata'!G$1,'2. Metadata'!G$5,IF(B6='2. Metadata'!H$1,'2. Metadata'!H$5)))))))) -> 50.213101 | D6: =IF(ISBLANK(B6)=TRUE," ",IF(B6='2. Metadata'!B$1,'2. Metadata'!B$6,IF(B6='2. Metadata'!C$1,'2. Metadata'!C$6,IF(B6='2. Metadata'!D$1,'2. Metadata'!D$6,IF(B6='2. Metadata'!E$1,'2. Metadata'!E$6,IF(B6='2. Metadata'!F$1,'2. Metadata'!F$6,IF(B6='2. Metadata'!G$1,'2. Metadata'!G$6,IF(B6='2. Metadata'!H$1,'2. Metadata'!H$6)))))))) -> -115.84255 | E6: n/a | F6: 19.7 | G6: =IF(ISBLANK(F6)=TRUE," ",'2. Metadata'!B$14) -> degrees Celsius | H6: 8.54 | I6: =IF(ISBLANK(H6)=TRUE," ",'2. Metadata'!B$26) -> pH units | J6: 1 | K6: =IF(ISBLANK(J6)=TRUE," ",'2. Metadata'!B$38) -> metres | L6: n/a
A7: 43672.419 | B7: Mid East | C7: =IF(ISBLANK(B7)=TRUE," ",IF(B7='2. Metadata'!B$1,'2. Metadata'!B$5,IF(B7='2. Metadata'!C$1,'2. Metadata'!C$5,IF(B7='2. Metadata'!D$1,'2. Metadata'!D$5,IF(B7='2. Metadata'!E$1,'2. Metadata'!E$5,IF(B7='2. Metadata'!F$1,'2. Metadata'!F$5,IF(B7='2. Metadata'!G$1,'2. Metadata'!G$5,IF(B7='2. Metadata'!H$1,'2. Metadata'!H$5)))))))) -> 50.213101 | D7: =IF(ISBLANK(B7)=TRUE," ",IF(B7='2. Metadata'!B$1,'2. Metadata'!B$6,IF(B7='2. Metadata'!C$1,'2. Metadata'!C$6,IF(B7='2. Metadata'!D$1,'2. Metadata'!D$6,IF(B7='2. Metadata'!E$1,'2. Metadata'!E$6,IF(B7='2. Metadata'!F$1,'2. Metadata'!F$6,IF(B7='2. Metadata'!G$1,'2. Metadata'!G$6,IF(B7='2. Metadata'!H$1,'2. Metadata'!H$6)))))))) -> -115.84255 | E7: n/a | F7: 19.5 | G7: =IF(ISBLANK(F7)=TRUE," ",'2. Metadata'!B$14) -> degrees Celsius | H7: 8.58 | I7: =IF(ISBLANK(H7)=TRUE," ",'2. Metadata'!B$26) -> pH units | J7: 1 | K7: =IF(ISBLANK(J7)=TRUE," ",'2. Metadata'!B$38) -> metres | L7: n/a
A8: 43672.442 | B8: Tilley Park Boat Launch | C8: =IF(ISBLANK(B8)=TRUE," ",IF(B8='2. Metadata'!B$1,'2. Metadata'!B$5,IF(B8='2. Metadata'!C$1,'2. Metadata'!C$5,IF(B8='2. Metadata'!D$1,'2. Metadata'!D$5,IF(B8='2. Metadata'!E$1,'2. Metadata'!E$5,IF(B8='2. Metadata'!F$1,'2. Metadata'!F$5,IF(B8='2. Metadata'!G$1,'2. Metadata'!G$5,IF(B8='2. Metadata'!H$1,'2. Metadata'!H$5)))))))) -> 50.17812 | D8: =IF(ISBLANK(B8)=TRUE," ",IF(B8='2. Metadata'!B$1,'2. Metadata'!B$6,IF(B8='2. Metadata'!C$1,'2. Metadata'!C$6,IF(B8='2. Metadata'!D$1,'2. Metadata'!D$6,IF(B8='2. Metadata'!E$1,'2. Metadata'!E$6,IF(B8='2. Metadata'!F$1,'2. Metadata'!F$6,IF(B8='2. Metadata'!G$1,'2. Metadata'!G$6,IF(B8='2. Metadata'!H$1,'2. Metadata'!H$6)))))))) -> -115.82018 | E8: n/a | F8: 19.6 | G8: =IF(ISBLANK(F8)=TRUE," ",'2. Metadata'!B$14) -> degrees Celsius | H8: 8.62 | I8: =IF(ISBLANK(H8)=TRUE," ",'2. Metadata'!B$26) -> pH units | J8: 2 | K8: =IF(ISBLANK(J8)=TRUE," ",'2. Metadata'!B$38) -> metres | L8: n/a
A9: 43728 | B9: Tilley Park Boat Launch | C9: =IF(ISBLANK(B9)=TRUE," ",IF(B9='2. Metadata'!B$1,'2. Metadata'!B$5,IF(B9='2. Metadata'!C$1,'2. Metadata'!C$5,IF(B9='2. Metadata'!D$1,'2. Metadata'!D$5,IF(B9='2. Metadata'!E$1,'2. Metadata'!E$5,IF(B9='2. Metadata'!F$1,'2. Metadata'!F$5,IF(B9='2. Metadata'!G$1,'2. Metadata'!G$5,IF(B9='2. Metadata'!H$1,'2. Metadata'!H$5)))))))) -> 50.17812 | D9: =IF(ISBLANK(B9)=TRUE," ",IF(B9='2. Metadata'!B$1,'2. Metadata'!B$6,IF(B9='2. Metadata'!C$1,'2. Metadata'!C$6,IF(B9='2. Metadata'!D$1,'2. Metadata'!D$6,IF(B9='2. Metadata'!E$1,'2. Metadata'!E$6,IF(B9='2. Metadata'!F$1,'2. Metadata'!F$6,IF(B9='2. Metadata'!G$1,'2. Metadata'!G$6,IF(B9='2. Metadata'!H$1,'2. Metadata'!H$6)))))))) -> -115.82018 | E9: n/a | F9: 14 | G9: =IF(ISBLANK(F9)=TRUE," ",'2. Metadata'!B$14) -> degrees Celsius | H9: 8.57 | I9: =IF(ISBLANK(H9)=TRUE," ",'2. Metadata'!B$26) -> pH units | J9: 1 | K9: =IF(ISBLANK(J9)=TRUE," ",'2. Metadata'!B$38) -> metres | L9: n/a
A10: 43728 | B10: Mid East | C10: =IF(ISBLANK(B10)=TRUE," ",IF(B10='2. Metadata'!B$1,'2. Metadata'!B$5,IF(B10='2. Metadata'!C$1,'2. Metadata'!C$5,IF(B10='2. Metadata'!D$1,'2. Metadata'!D$5,IF(B10='2. Metadata'!E$1,'2. Metadata'!E$5,IF(B10='2. Metadata'!F$1,'2. Metadata'!F$5,IF(B10='2. Metadata'!G$1,'2. Metadata'!G$5,IF(B10='2. Metadata'!H$1,'2. Metadata'!H$5)))))))) -> 50.213101 | D10: =IF(ISBLANK(B10)=TRUE," ",IF(B10='2. Metadata'!B$1,'2. Metadata'!B$6,IF(B10='2. Metadata'!C$1,'2. Metadata'!C$6,IF(B10='2. Metadata'!D$1,'2. Metadata'!D$6,IF(B10='2. Metadata'!E$1,'2. Metadata'!E$6,IF(B10='2. Metadata'!F$1,'2. Metadata'!F$6,IF(B10='2. Metadata'!G$1,'2. Metadata'!G$6,IF(B10='2. Metadata'!H$1,'2. Metadata'!H$6)))))))) -> -115.84255 | E10: n/a | F10: 14.8 | G10: =IF(ISBLANK(F10)=TRUE," ",'2. Metadata'!B$14) -> degrees Celsius | H10: 8.72 | I10: =IF(ISBLANK(H10)=TRUE," ",'2. Metadata'!B$26) -> pH units | J10: 1.6 | K10: =IF(ISBLANK(J10)=TRUE," ",'2. Metadata'!B$38) -> metres | L10: n/a
A11: 43728 | B11: Station Road | C11: =IF(ISBLANK(B11)=TRUE," ",IF(B11='2. Metadata'!B$1,'2. Metadata'!B$5,IF(B11='2. Metadata'!C$1,'2. Metadata'!C$5,IF(B11='2. Metadata'!D$1,'2. Metadata'!D$5,IF(B11='2. Metadata'!E$1,'2. Metadata'!E$5,IF(B11='2. Metadata'!F$1,'2. Metadata'!F$5,IF(B11='2. Metadata'!G$1,'2. Metadata'!G$5,IF(B11='2. Metadata'!H$1,'2. Metadata'!H$5)))))))) -> 50.21205 | D11: =IF(ISBLANK(B11)=TRUE," ",IF(B11='2. Metadata'!B$1,'2. Metadata'!B$6,IF(B11='2. Metadata'!C$1,'2. Metadata'!C$6,IF(B11='2. Metadata'!D$1,'2. Metadata'!D$6,IF(B11='2. Metadata'!E$1,'2. Metadata'!E$6,IF(B11='2. Metadata'!F$1,'2. Metadata'!F$6,IF(B11='2. Metadata'!G$1,'2. Metadata'!G$6,IF(B11='2. Metadata'!H$1,'2. Metadata'!H$6)))))))) -> -115.86005 | E11: n/a | F11: 14.8 | G11: =IF(ISBLANK(F11)=TRUE," ",'2. Metadata'!B$14) -> degrees Celsius | H11: 8.71 | I11: =IF(ISBLANK(H11)=TRUE," ",'2. Metadata'!B$26) -> pH units | J11: 3.5 | K11: =IF(ISBLANK(J11)=TRUE," ",'2. Metadata'!B$38) -> metres | L11: n/a
A12: 43986 | B12: Tilley Park Boat Launch | C12: =IF(ISBLANK(B12)=TRUE," ",IF(B12='2. Metadata'!B$1,'2. Metadata'!B$5,IF(B12='2. Metadata'!C$1,'2. Metadata'!C$5,IF(B12='2. Metadata'!D$1,'2. Metadata'!D$5,IF(B12='2. Metadata'!E$1,'2. Metadata'!E$5,IF(B12='2. Metadata'!F$1,'2. Metadata'!F$5,IF(B12='2. Metadata'!G$1,'2. Metadata'!G$5,IF(B12='2. Metadata'!H$1,'2. Metadata'!H$5)))))))) -> 50.17812 | D12: =IF(ISBLANK(B12)=TRUE," ",IF(B12='2. Metadata'!B$1,'2. Metadata'!B$6,IF(B12='2. Metadata'!C$1,'2. Metadata'!C$6,IF(B12='2. Metadata'!D$1,'2. Metadata'!D$6,IF(B12='2. Metadata'!E$1,'2. Metadata'!E$6,IF(B12='2. Metadata'!F$1,'2. Metadata'!F$6,IF(B12='2. Metadata'!G$1,'2. Metadata'!G$6,IF(B12='2. Metadata'!H$1,'2. Metadata'!H$6)))))))) -> -115.82018 | E12: n/a | F12: 15.3 | G12: =IF(ISBLANK(F12)=TRUE," ",'2. Metadata'!B$14) -> degrees Celsius | H12: 8.7 | I12: =IF(ISBLANK(H12)=TRUE," ",'2. Metadata'!B$26) -> pH units | J12: 2 | K12: =IF(ISBLANK(J12)=TRUE," ",'2. Metadata'!B$38) -> metres | L12: n/a
A13: 44004 | B13: Tilley Park Boat Launch | C13: =IF(ISBLANK(B13)=TRUE," ",IF(B13='2. Metadata'!B$1,'2. Metadata'!B$5,IF(B13='2. Metadata'!C$1,'2. Metadata'!C$5,IF(B13='2. Metadata'!D$1,'2. Metadata'!D$5,IF(B13='2. Metadata'!E$1,'2. Metadata'!E$5,IF(B13='2. Metadata'!F$1,'2. Metadata'!F$5,IF(B13='2. Metadata'!G$1,'2. Metadata'!G$5,IF(B13='2. Metadata'!H$1,'2. Metadata'!H$5)))))))) -> 50.17812 | D13: =IF(ISBLANK(B13)=TRUE," ",IF(B13='2. Metadata'!B$1,'2. Metadata'!B$6,IF(B13='2. Metadata'!C$1,'2. Metadata'!C$6,IF(B13='2. Metadata'!D$1,'2. Metadata'!D$6,IF(B13='2. Metadata'!E$1,'2. Metadata'!E$6,IF(B13='2. Metadata'!F$1,'2. Metadata'!F$6,IF(B13='2. Metadata'!G$1,'2. Metadata'!G$6,IF(B13='2. Metadata'!H$1,'2. Metadata'!H$6)))))))) -> -115.82018 | E13: n/a | F13: 18.7 | G13: =IF(ISBLANK(F13)=TRUE," ",'2. Metadata'!B$14) -> degrees Celsius | H13: 8.6 | I13: =IF(ISBLANK(H13)=TRUE," ",'2. Metadata'!B$26) -> pH units | J13: 2 | K13: =IF(ISBLANK(J13)=TRUE," ",'2. Metadata'!B$38) -> metres | L13: n/a
... A32: 44460 | B32: Tilley Park Boat Launch | C32: =IF(ISBLANK(B32)=TRUE," ",IF(B32='2. Metadata'!B$1,'2. Metadata'!B$5,IF(B32='2. Metadata'!C$1,'2. Metadata'!C$5,IF(B32='2. Metadata'!D$1,'2. Metadata'!D$5,IF(B32='2. Metadata'!E$1,'2. Metadata'!E$5,IF(B32='2. Metadata'!F$1,'2. Metadata'!F$5,IF(B32='2. Metadata'!G$1,'2. Metadata'!G$5,IF(B32='2. Metadata'!H$1,'2. Metadata'!H$5)))))))) -> 50.17812 | D32: =IF(ISBLANK(B32)=TRUE," ",IF(B32='2. Metadata'!B$1,'2. Metadata'!B$6,IF(B32='2. Metadata'!C$1,'2. Metadata'!C$6,IF(B32='2. Metadata'!D$1,'2. Metadata'!D$6,IF(B32='2. Metadata'!E$1,'2. Metadata'!E$6,IF(B32='2. Metadata'!F$1,'2. Metadata'!F$6,IF(B32='2. Metadata'!G$1,'2. Metadata'!G$6,IF(B32='2. Metadata'!H$1,'2. Metadata'!H$6)))))))) -> -115.82018 | E32: n/a | F32: 10.9 | G32: =IF(ISBLANK(F32)=TRUE," ",'2. Metadata'!B$14) -> degrees Celsius | H32: 8.4 | I32: =IF(ISBLANK(H32)=TRUE," ",'2. Metadata'!B$26) -> pH units | J32: 1 | K32: =IF(ISBLANK(J32)=TRUE," ",'2. Metadata'!B$38) -> metres | L32: n/a

Sheet 2. Metadata
A1: Site ID | B1: Tilley Park Boat Launch | C1: Columere Park | D1: Columbia 2 | E1: Columbia 3 | F1: Mid East | G1: Station Road | H1: Pine Bay
A2: Location/Site Name | B2: Tilley Park Boat Launch | C2: Columere Park | D2: East side of Columbia Lake | E2: West side of Columbia Lake | F2: East side of Columbia Lake | G2: West side of Columbia Lake | H2: Unknown
A3: Waterbody Type | B3: Lakes | C3: Lakes | D3: Lakes | E3: Lakes | F3: Lakes | G3: Lakes | H3: Lakes
A4: Waterbody | B4: Columbia Lake | C4: Columbia Lake | D4: Columbia Lake | E4: Columbia Lake | F4: Columbia Lake | G4: Columbia Lake | H4: Columbia Lake
A5: Site Latitude (decimal degrees) | B5: 50.17812 | C5: 50.289639 | D5: 50.257061 | E5: 50.2449 | F5: 50.213101 | G5: 50.21205 | H5: n/a
A6: Site Longitude (decimal degrees) | B6: -115.82018 | C6: -115.87052 | D6: -115.85307 | E6: -115.86624 | F6: -115.84255 | G6: -115.86005 | H6: n/a
A7: Coordinate System | B7: UNKWN | C7: UNKWN | D7: UNKWN | E7: UNKWN | F7: UNKWN | G7: UNKWN | H7: UNKWN
A8: Site Elevation (masl) | B8: 810 | C8: 810 | D8: 810 | E8: 810 | F8: 810 | G8: 810 | H8: 810
A9: Measurement Interval | B9: Biweekly | C9: Biweekly | D9: Single measurement | E9: Single measurement | F9: 2019 only | G9: 2019 only | H9: 2019 only
A10: Site Notes | B10: n/a | C10: n/a | D10: n/a | E10: n/a | F10: n/a | G10: n/a | H10: 50.21205 latitude but longitude missing
A11: Site Photos in Dataset | B11: No
A12: Photo Resource Name | B12: n/a
A13: Parameter 1 | B13: water_temperature
A14: Unit of Measurement | B14: degrees Celsius
A15: Instrument Type | B15: pH Pen
A16: Instrument Manufacturer | B16: Hanna
A17: Instrument Model | B17: HI98127
A18: Serial Number | B18: Not specified
A19: Range | B19: -5.0 to 60.0°C
A20: Accuracy | B20: ±0.5°C
A21: Resolution | B21: 0.1°C
A22: Calibration Notes | B22: Not specified
... A48: Notes on Methods | B48: As per British Columbia Dreissenid Mussel Lake Monitoring Field Protocol

Sheet 2.b Metadata Definitions
A1: Metadata Definitions
B2: Definition | C2: Format | D2: Example
A3: Site ID | B3: Unique name/code used to identify the monitoring site (assigned by monitoring organization). | C3: Text | D3: SAH_01
A4: Waterbody Type | B4: The type of waterbody the measurements were taken from | C4: Text | D4: Stream
A5: Waterbody | B5: Name of the waterbody where monitoring took place. | C5: Text | D5: Slocan Lake
A6: Location/Site Name | B6: Geographically descriptive name of the monitoring site. | C6: Text | D6: Slocan River at Passmore Bridge
A7: Location Latitude | B7: Latitude. Decimal degrees. | C7: Decimal degrees | D7: 51.048614
A8: Location Longitude | B8: Longitude. Decimal degrees. | C8: Decimal degrees | D8: -114.07082
A9: Location Coordinate System | B9: The datum that your latitude and longitude coordinates are based upon. | C9: Pick From List | D9: WGS84
A10: Elevation | B10: The elevation of your monitoring location (metres above sea level) | C10: Number | D10: 800
A11: Measurement Interval | B11: The timescale that measurements are being taken, ex. hourly, every 8 hours, weekly, monthly | C11: Text | D11: Hourly
A12: Site Photos in Dataset | B12: Whether site photos will be included as a separate zipfile as part of the dataset this resource contains | C12: Text | D12: Yes
A13: Photo Resource Name | B13: Name of the Resource that will contain photos relevant to this resource/site | C13: Text | D13: Monitoring Station Photos from Some Creek
A14: Parameter | B14: Type of measurement being taken. Must be expressed without spaces or symbols, lower case, use underscores as needed. | C14: Pick From List | D14: Temperature
A15: Unit of Measurement | B15: Unit of measurement for the parameter referred to above. Do not include symbols. | C15: Pick From List | D15: Degrees Celsius
A16: Instrument Type | B16: The general category of instrument being used | C16: Pick From List | D16: Data Logger
A17: Instrument Manufacturer | B17: Manufacturer of instrument used to measure this parameter | C17: Text | D17: YSI
A18: Instrument Model | B18: Model of instrument used to measure this parameter | C18: Text | D18: 6050020 Pro20
A19: Serial Number | B19: Serial number of the instrument used to measure this parameter, if applicable | C19: Text | D19: 20413527
A20: Accuracy | B20: Accuracy of the instrument used to measure this parameter (can be found on manufacturer website), this must be entered in plain text without symbols | C20: Text | D20: Plus or minus 2 degrees C
A21: Range | B21: Range of the instrument used to measure this parameter (can be found on manufacturer website) | C21: Text | D21: -5 to 70 degrees C (23 to 158 degrees F)
A22: Resolution | B22: Resolution of the instrument used to measure this parameter (can be found on manufacturer website) | C22: Text | D22: 0.1 degrees C
... A25: Notes on Methods: | B25: Details regarding methods used to measure this parameter | C25: Text | D25: Temperature measurements were taken 30cm from water's edge at a depth of 10cm
A27: Measurement Intervals | B27: Parameter Selection Choices | C27: Unit Choices | D27: Instrument Types | E27: Time Zones | F27: Coordinate Systems
A28: Fifteen Minutes | B28: air_temperature | C28: atm | D28: Analog Thermometer | E28: GMT | F28: WGS84
A29: Thirty Minutes | B29: alkalinity | C29: centimetres | D29: Bench Meter | E29: GMT-6 | F29: NAD27
A30: Hourly | B30: atmospheric_pressure | C30: CFU per 100 mL | D30: Climate Station | E30: GMT-7 | F30: NAD83
A31: Four Hours | B31: average_air_temperature | C31: degrees Celsius | D31: Data Logger | E31: GMT-8 | F31: AMSMA
A32: Six Hours | B32: average_water_temperature | C32: degrees Fahrenheit | D32: Observation | E32: MDT | F32: ASTRO
A33: Twelve Hours | B33: chlorine | C33: hectopascal | D33: Portable Meter | E33: MST | F33: GUAM
A34: Daily | B34: clarity | C34: metres | D34: Portable Multiparameter Meter | E34: MT | F34: HARN
A35: Weekly | B35: conductivity | C35: metres above sea level | D35: Rain Gauge | E35: PDT | F35: JHNSN
A36: Biweekly | B36: depth | C36: metres below ground surface | D36: Secchi Disk | E36: PST | F36: NAD27
A37: Monthly | B37: discharge | C37: metres/second | D37: Unknown | E37: PT | F37: NAD83
A38: Single Point Measurement | B38: dissolved_oxygen | C38: metres3/second | D38: N/A | E38: UTC | F38: OLDHI
A39: As Needed | B39: fecal_coliforms | C39: milligrams per litre | E39: UTC-6 | F39: OTHER
A40: Varied | B40: hardness | C40: micromhos per centimetre | E40: UTC-7 | F40: PR
B41: maximum_air_temperature | C41: microSiemens per centimetre | E41: UTC-8 | F41: SGEOR
B42: maxiumum_water_temperature | C42: mmHg | E42: N/A | F42: SLAWR
B43: minimum_air_temperature | C43: most probable number per 100 mL | E43: Unknown | F43: SPAUL
...

Sheet  3. Changelog
A1: Date of Modification | B1: Description of Modification | C1: Name of Person Modifying
A2: 44624 | B2: Upload to new template, QA/QC | C2: Verena Shaw
